BEGIN:VCALENDAR
VERSION:2.0
PRODID:-//BiG - Besty&#039;s Inspirational Guidance - ECPv5.0.1//NONSGML v1.0//EN
CALSCALE:GREGORIAN
METHOD:PUBLISH
X-WR-CALNAME:BiG - Besty&#039;s Inspirational Guidance
X-ORIGINAL-URL:http://www.bestysinspirationalguidance.co.uk
X-WR-CALDESC:Events for BiG - Besty&#039;s Inspirational Guidance
BEGIN:VTIMEZONE
TZID:Europe/London
BEGIN:DAYLIGHT
TZOFFSETFROM:+0000
TZOFFSETTO:+0100
TZNAME:BST
DTSTART:20160327T010000
END:DAYLIGHT
BEGIN:STANDARD
TZOFFSETFROM:+0100
TZOFFSETTO:+0000
TZNAME:GMT
DTSTART:20161030T010000
END:STANDARD
END:VTIMEZONE
BEGIN:VEVENT
DTSTART;TZID=Europe/London:20161024T100000
DTEND;TZID=Europe/London:20161028T150000
DTSTAMP:20260419T115140
CREATED:20160917T142411Z
LAST-MODIFIED:20160917T142411Z
UID:3915-1477303200-1477666800@www.bestysinspirationalguidance.co.uk
SUMMARY:2016 Half Term Holiday Football Programme
DESCRIPTION:Whether you missed out at the recent memorable Summer 2016 Holiday Programme or not\, again BiG is running another exciting holiday football programme during half term.  The BiG Half Term 2016 community football programme  will run all week and involve opportunities for your child / children to develop their football abilities\, social and personal skills whilst becoming more resilient and having fun. Only £35 for the whole week working out to a staggering £7 a day! \nPlaces will be restricted so register now to secure your place! \n
URL:http://www.bestysinspirationalguidance.co.uk/event/2016-half-term-holiday-football-programme
LOCATION:Rosendale Playing Fields\, Rosendale Road \, London\, SE21 8LP\, United Kingdom
ORGANIZER;CN="Lione%20Best":MAILTO:lionel.best@sky.com
END:VEVENT
END:VCALENDAR