BEGIN:VCALENDAR
VERSION:2.0
PRODID:-//BiG - Besty&#039;s Inspirational Guidance - ECPv5.0.1//NONSGML v1.0//EN
CALSCALE:GREGORIAN
METHOD:PUBLISH
X-WR-CALNAME:BiG - Besty&#039;s Inspirational Guidance
X-ORIGINAL-URL:http://www.bestysinspirationalguidance.co.uk
X-WR-CALDESC:Events for BiG - Besty&#039;s Inspirational Guidance
BEGIN:VTIMEZONE
TZID:Europe/London
BEGIN:DAYLIGHT
TZOFFSETFROM:+0000
TZOFFSETTO:+0100
TZNAME:BST
DTSTART:20130331T010000
END:DAYLIGHT
BEGIN:STANDARD
TZOFFSETFROM:+0100
TZOFFSETTO:+0000
TZNAME:GMT
DTSTART:20131027T010000
END:STANDARD
END:VTIMEZONE
BEGIN:VEVENT
DTSTART;TZID=Europe/London:20131028T100000
DTEND;TZID=Europe/London:20131101T150000
DTSTAMP:20260419T141325
CREATED:20130910T210254Z
LAST-MODIFIED:20130910T211805Z
UID:1317-1382954400-1383318000@www.bestysinspirationalguidance.co.uk
SUMMARY:BiG Autumn 2012 Half term Holiday Football Programme
DESCRIPTION:BiG is running another exciting football programme over the Autumn 2012 half term.  The programme comes shortly after a fantastic fun summer programme which I’m sure that many participants improved their overall football skills and technical ability and I have no doubts that those who enrol onto this programme will experience the same while they will feel safe and have so much fun. \n  \nThe programme will run for the whole week for just £7.50 per day for 5 hours (or a discounted £35 per week with a further family package deal for 2) that could been seen as offering cheap child care opportunities for parents. \n  \nParticipants will be enrolled on a first come first serve basis so please send me an e-mail from the contacts page to register your interest. \n  \nTo secure your place\, complete the registration form and return with your payment. Here is the costs information. \n  \n
URL:http://www.bestysinspirationalguidance.co.uk/event/big-autumn-2012-half-term-holiday-football-programme
END:VEVENT
END:VCALENDAR