BEGIN:VCALENDAR
VERSION:2.0
PRODID:-//BiG - Besty&#039;s Inspirational Guidance - ECPv5.0.1//NONSGML v1.0//EN
CALSCALE:GREGORIAN
METHOD:PUBLISH
X-WR-CALNAME:BiG - Besty&#039;s Inspirational Guidance
X-ORIGINAL-URL:http://www.bestysinspirationalguidance.co.uk
X-WR-CALDESC:Events for BiG - Besty&#039;s Inspirational Guidance
BEGIN:VTIMEZONE
TZID:Europe/London
BEGIN:DAYLIGHT
TZOFFSETFROM:+0000
TZOFFSETTO:+0100
TZNAME:BST
DTSTART:20120325T010000
END:DAYLIGHT
BEGIN:STANDARD
TZOFFSETFROM:+0100
TZOFFSETTO:+0000
TZNAME:GMT
DTSTART:20121028T010000
END:STANDARD
END:VTIMEZONE
BEGIN:VEVENT
DTSTART;TZID=Europe/London:20120403T100000
DTEND;TZID=Europe/London:20120405T150059
DTSTAMP:20260419T142328
CREATED:20120130T132320Z
LAST-MODIFIED:20120320T135851Z
UID:436-1333447200-1333638059@www.bestysinspirationalguidance.co.uk
SUMMARY:BiG Easter Holiday Programme 1 2012
DESCRIPTION:During the school Easter holidays\, BiG will be running an exciting Easter football programme that will improve football skills\, technical abilities\, tactical awareness and general understanding of football\, while participants will be having lots of fun and feel safe. \nThe programme will be run at Abbotshall Playing Fields\, Abbotshall Road\, Catford London SE6 1SQ on 3rd\, 4th\, 5th\, 10th\, 11th\, 12th and 13th April\, and offers excellent value package deals. \nCosts and Packages\nBiG holiday programme costs and payment details \nBiG holiday football programme day by day \nPlaces are limited so first come first serve! Enrol now to be a part of this thrilling programme by completing the registration form. \nBiG holiday football programme registration form \n
URL:http://www.bestysinspirationalguidance.co.uk/event/big-easter-holiday-programme-2012
CATEGORIES:BiG Holiday Programmes
END:VEVENT
END:VCALENDAR