BEGIN:VCALENDAR
VERSION:2.0
PRODID:-//BiG - Besty&#039;s Inspirational Guidance - ECPv5.0.1//NONSGML v1.0//EN
CALSCALE:GREGORIAN
METHOD:PUBLISH
X-WR-CALNAME:BiG - Besty&#039;s Inspirational Guidance
X-ORIGINAL-URL:http://www.bestysinspirationalguidance.co.uk
X-WR-CALDESC:Events for BiG - Besty&#039;s Inspirational Guidance
BEGIN:VTIMEZONE
TZID:Europe/London
BEGIN:DAYLIGHT
TZOFFSETFROM:+0000
TZOFFSETTO:+0100
TZNAME:BST
DTSTART:20120325T010000
END:DAYLIGHT
BEGIN:STANDARD
TZOFFSETFROM:+0100
TZOFFSETTO:+0000
TZNAME:GMT
DTSTART:20121028T010000
END:STANDARD
END:VTIMEZONE
BEGIN:VEVENT
DTSTART;VALUE=DATE:20121029
DTEND;VALUE=DATE:20121103
DTSTAMP:20260419T142517
CREATED:20120918T152739Z
LAST-MODIFIED:20120918T181603Z
UID:850-1351468800-1351900799@www.bestysinspirationalguidance.co.uk
SUMMARY:BIG Half-Term Football Programme 2012
DESCRIPTION:BiG will be running it’s first Half-Term Football programme between Monday 29th October and Friday 2nd November 2012.\nThe programme will be held at Abbotshall Playing Fields\, Abbotshall Road\, Catford London SE6 1SQ\, will include some fantastic coaching and fun educational games and offers excellent value package deals.\nCosts and Packages\nBiG Holiday Programme costs and information details\n BiG Holiday programme day by day\nBiG holiday football programme registration form\n BiG Holiday Programme Booking Form \n
URL:http://www.bestysinspirationalguidance.co.uk/event/big-half-term-football-programme-2012
LOCATION:Abbotshall Playing Fields\, Abbotshall Road\, Catford\, London\, SE6 1SQ\, United Kingdom
ORGANIZER;CN="Lionel%20Best":MAILTO:lionel.best@sky.com
END:VEVENT
END:VCALENDAR