BEGIN:VCALENDAR
VERSION:2.0
PRODID:-//BiG - Besty&#039;s Inspirational Guidance - ECPv5.0.1//NONSGML v1.0//EN
CALSCALE:GREGORIAN
METHOD:PUBLISH
X-WR-CALNAME:BiG - Besty&#039;s Inspirational Guidance
X-ORIGINAL-URL:http://www.bestysinspirationalguidance.co.uk
X-WR-CALDESC:Events for BiG - Besty&#039;s Inspirational Guidance
BEGIN:VTIMEZONE
TZID:Europe/London
BEGIN:DAYLIGHT
TZOFFSETFROM:+0000
TZOFFSETTO:+0100
TZNAME:BST
DTSTART:20130331T010000
END:DAYLIGHT
BEGIN:STANDARD
TZOFFSETFROM:+0100
TZOFFSETTO:+0000
TZNAME:GMT
DTSTART:20131027T010000
END:STANDARD
END:VTIMEZONE
BEGIN:VEVENT
DTSTART;TZID=Europe/London:20130805T100000
DTEND;TZID=Europe/London:20130809T150000
DTSTAMP:20260419T141452
CREATED:20130521T222057Z
LAST-MODIFIED:20130612T105924Z
UID:1146-1375696800-1376060400@www.bestysinspirationalguidance.co.uk
SUMMARY:BiG Summer 2013 Holiday Football Programme
DESCRIPTION:BiG is running another exciting Summer football programme this year at a cut price £50 per programme that works out to £5 per day.  The programme\, which will be run by a qualified UEFA B coach who has worked for Crystal Palace Academy for 4 years\, will without a doubt improve participants football skills and technical ability while they are feeling safe and having so much fun. \n  \nThe programme will run for 2 weeks for 5 hours per day that could also been seen as offering child care opportunities for the equivalent of £1 per hour and would be a win-win situation for both young people and parents. \n  \nParticipants will be enrolled on a first come first serve basis so please send me an e-mail from the  contacts page to register your interest and secure your child’s place. \n  \nTo secure your place\, complete the registration form and return with your payment. You can enrol for 1 week or 2 weeks course(s) and here is the costs information on each course. \n
URL:http://www.bestysinspirationalguidance.co.uk/event/big-summer-2013-football-holiday-programme-2
LOCATION:Rosendale Playing Fields\, Rosendale Road \, London\, SE21 8LP\, United Kingdom
CATEGORIES:BiG Holiday Programmes
ORGANIZER;CN="Lionel%20Best":MAILTO:lionel.best@sky.com
END:VEVENT
END:VCALENDAR