BEGIN:VCALENDAR
VERSION:2.0
PRODID:-//BiG - Besty&#039;s Inspirational Guidance - ECPv5.0.1//NONSGML v1.0//EN
CALSCALE:GREGORIAN
METHOD:PUBLISH
X-WR-CALNAME:BiG - Besty&#039;s Inspirational Guidance
X-ORIGINAL-URL:http://www.bestysinspirationalguidance.co.uk
X-WR-CALDESC:Events for BiG - Besty&#039;s Inspirational Guidance
BEGIN:VTIMEZONE
TZID:Europe/London
BEGIN:DAYLIGHT
TZOFFSETFROM:+0000
TZOFFSETTO:+0100
TZNAME:BST
DTSTART:20140330T010000
END:DAYLIGHT
BEGIN:STANDARD
TZOFFSETFROM:+0100
TZOFFSETTO:+0000
TZNAME:GMT
DTSTART:20141026T010000
END:STANDARD
END:VTIMEZONE
BEGIN:VEVENT
DTSTART;TZID=Europe/London:20140804T100000
DTEND;TZID=Europe/London:20140808T150000
DTSTAMP:20260419T132149
CREATED:20140626T093023Z
LAST-MODIFIED:20140626T093323Z
UID:2232-1407146400-1407510000@www.bestysinspirationalguidance.co.uk
SUMMARY:BiG Summer 2014 Holiday Football Programme one - week 2
DESCRIPTION:BiG is running two exciting 2 weeks football programmes over the Summer 2014. The programme will run all day between 10am and 3pm Monday to Friday and will improve overall football skills and technical ability and those enrol onto a programme will run all day between 10am and 3pm Monday to Friday and will have so much fun in a safe environment and meet new friends. \nThe programme will run for 2 weeks for just £8 per day for 5 hours or a discounted £35 per week (plus a further family package deal for 2) that could been seen as offering cheap child care opportunities for parents. \nParticipants will be enrolled on a first come first serve basis so please send me an e-mail from the contacts page to register your interest. \nTo secure your place\, complete the booking form and return with your payment. \nHere is the costs information sheet which gives you the option to pay direct into the BiG bank account. \n
URL:http://www.bestysinspirationalguidance.co.uk/event/big-summer-2014-holiday-football-programme-one-week-2
LOCATION:Ten-Em-Bee Sports Development Centre\, 120a Old Bromley Road\, Downham\, Bromley\, BR1 4JY\, United Kingdom
ORGANIZER;CN="Lionel%20Best":MAILTO:lionel.best@sky.com
END:VEVENT
END:VCALENDAR