BEGIN:VCALENDAR
VERSION:2.0
PRODID:-//BiG - Besty&#039;s Inspirational Guidance - ECPv5.0.1//NONSGML v1.0//EN
CALSCALE:GREGORIAN
METHOD:PUBLISH
X-WR-CALNAME:BiG - Besty&#039;s Inspirational Guidance
X-ORIGINAL-URL:http://www.bestysinspirationalguidance.co.uk
X-WR-CALDESC:Events for BiG - Besty&#039;s Inspirational Guidance
BEGIN:VTIMEZONE
TZID:Europe/London
BEGIN:DAYLIGHT
TZOFFSETFROM:+0000
TZOFFSETTO:+0100
TZNAME:BST
DTSTART:20110327T010000
END:DAYLIGHT
BEGIN:STANDARD
TZOFFSETFROM:+0100
TZOFFSETTO:+0000
TZNAME:GMT
DTSTART:20111030T010000
END:STANDARD
END:VTIMEZONE
BEGIN:VEVENT
DTSTART;TZID=Europe/London:20110815T100000
DTEND;TZID=Europe/London:20110819T120059
DTSTAMP:20260419T142511
CREATED:20120206T164148Z
LAST-MODIFIED:20120221T215344Z
UID:616-1313402400-1313755259@www.bestysinspirationalguidance.co.uk
SUMMARY:BiG Summer Holiday Programme
DESCRIPTION:BiG ran its first one week long football programme for all ages. \n
URL:http://www.bestysinspirationalguidance.co.uk/event/big-summer-holiday-programme
LOCATION:United Kingdom
CATEGORIES:BiG Holiday Programmes
END:VEVENT
END:VCALENDAR