BEGIN:VCALENDAR
VERSION:2.0
PRODID:-//BiG - Besty&#039;s Inspirational Guidance - ECPv5.0.1//NONSGML v1.0//EN
CALSCALE:GREGORIAN
METHOD:PUBLISH
X-WR-CALNAME:BiG - Besty&#039;s Inspirational Guidance
X-ORIGINAL-URL:http://www.bestysinspirationalguidance.co.uk
X-WR-CALDESC:Events for BiG - Besty&#039;s Inspirational Guidance
BEGIN:VTIMEZONE
TZID:Europe/London
BEGIN:DAYLIGHT
TZOFFSETFROM:+0000
TZOFFSETTO:+0100
TZNAME:BST
DTSTART:20160327T010000
END:DAYLIGHT
BEGIN:STANDARD
TZOFFSETFROM:+0100
TZOFFSETTO:+0000
TZNAME:GMT
DTSTART:20161030T010000
END:STANDARD
END:VTIMEZONE
BEGIN:VEVENT
DTSTART;TZID=Europe/London:20160407T130000
DTEND;TZID=Europe/London:20160407T170000
DTSTAMP:20260419T130007
CREATED:20160329T221537Z
LAST-MODIFIED:20160329T221537Z
UID:3584-1460034000-1460048400@www.bestysinspirationalguidance.co.uk
SUMMARY:Elite trial and competition Day 1
DESCRIPTION:The BiG ‘Old’ Vs ‘New’ Fund Raising Event Entertainment Programme for young children\, teenagers and young men & women to get involved and get active! \nTrial out the BiG Elite Team (11 to 13 year olds only – school year 7 and 8s)\nCrossing & Finishing competitions (over 16 year olds)\nCrossbar challenge Competition (11 to 15 year olds only)\nDribbling Assault Course (5 to 10 year olds only) \n
URL:http://www.bestysinspirationalguidance.co.uk/event/elite-trial-and-competition-day-1
LOCATION:Ten-Em-Bee Sports Development Centre\, 120a Old Bromley Road\, Downham\, Bromley\, BR1 4JY\, United Kingdom
ORGANIZER;CN="Lione%20Best":MAILTO:lionel.best@sky.com
END:VEVENT
END:VCALENDAR